BEGIN:VCALENDAR
VERSION:2.0
PRODID:-//Brown County United Way - ECPv6.15.20//NONSGML v1.0//EN
CALSCALE:GREGORIAN
METHOD:PUBLISH
X-ORIGINAL-URL:https://www.browncountyunitedway.org
X-WR-CALDESC:Events for Brown County United Way
REFRESH-INTERVAL;VALUE=DURATION:PT1H
X-Robots-Tag:noindex
X-PUBLISHED-TTL:PT1H
BEGIN:VTIMEZONE
TZID:America/Chicago
BEGIN:DAYLIGHT
TZOFFSETFROM:-0600
TZOFFSETTO:-0500
TZNAME:CDT
DTSTART:20250309T080000
END:DAYLIGHT
BEGIN:STANDARD
TZOFFSETFROM:-0500
TZOFFSETTO:-0600
TZNAME:CST
DTSTART:20251102T070000
END:STANDARD
BEGIN:DAYLIGHT
TZOFFSETFROM:-0600
TZOFFSETTO:-0500
TZNAME:CDT
DTSTART:20260308T080000
END:DAYLIGHT
BEGIN:STANDARD
TZOFFSETFROM:-0500
TZOFFSETTO:-0600
TZNAME:CST
DTSTART:20261101T070000
END:STANDARD
BEGIN:DAYLIGHT
TZOFFSETFROM:-0600
TZOFFSETTO:-0500
TZNAME:CDT
DTSTART:20270314T080000
END:DAYLIGHT
BEGIN:STANDARD
TZOFFSETFROM:-0500
TZOFFSETTO:-0600
TZNAME:CST
DTSTART:20271107T070000
END:STANDARD
END:VTIMEZONE
BEGIN:VEVENT
DTSTART;TZID=America/Chicago:20260421T140000
DTEND;TZID=America/Chicago:20260421T160000
DTSTAMP:20260420T012042
CREATED:20260417T162519Z
LAST-MODIFIED:20260417T162519Z
UID:2549-1776780000-1776787200@www.browncountyunitedway.org
SUMMARY:Techquity WI Program - Green Bay area residents
DESCRIPTION:Techquity WI is a statewide (no cost!) device access and navigation program that offers long-term\, loaned laptops or tablets and one-on-one digital support to help individuals succeed in work\, school\, healthcare\, and beyond! Brown County United Way is proud to partner with the United Way Wisconsin network to bring this program to the county. \nEligibility is: \n\nNot own a personal computer or laptop.\nNot have already received a device through the Techquity Wisconsin or a similar program.\nBelong to one of these population groups:\n\nA household with an income at or below 200% FPL OR\nAn underserved household (lacking internet service)\nAn under-connected household (limited access due to constraining factors like cost or provider options)\nAn ALICE (Asset Limited\, Income Constrained\, Employed) household\nHave a critical need for digital access that was exacerbated by the COVID-19 public health emergency\, related to work/education/health.\nBe over the age of 13.\nBe a resident of Brown County\n\n\n\nPre-registration is required; space is limited. Please click on the link and QR code in the flyer. \nThis event is focused on supporting residents in the Green Bay area.
URL:https://www.browncountyunitedway.org/event/techquity-april21/
LOCATION:City East Center\, 111 North Roosevelt Street\, GREEN BAY\, WI\, 54301-5010\, United States
CATEGORIES:Techquity
END:VEVENT
END:VCALENDAR