BEGIN:VCALENDAR
VERSION:2.0
PRODID:-//Brown County United Way - ECPv6.15.20//NONSGML v1.0//EN
CALSCALE:GREGORIAN
METHOD:PUBLISH
X-WR-CALNAME:Brown County United Way
X-ORIGINAL-URL:https://www.browncountyunitedway.org
X-WR-CALDESC:Events for Brown County United Way
REFRESH-INTERVAL;VALUE=DURATION:PT1H
X-Robots-Tag:noindex
X-PUBLISHED-TTL:PT1H
BEGIN:VTIMEZONE
TZID:America/Chicago
BEGIN:DAYLIGHT
TZOFFSETFROM:-0600
TZOFFSETTO:-0500
TZNAME:CDT
DTSTART:20250309T080000
END:DAYLIGHT
BEGIN:STANDARD
TZOFFSETFROM:-0500
TZOFFSETTO:-0600
TZNAME:CST
DTSTART:20251102T070000
END:STANDARD
BEGIN:DAYLIGHT
TZOFFSETFROM:-0600
TZOFFSETTO:-0500
TZNAME:CDT
DTSTART:20260308T080000
END:DAYLIGHT
BEGIN:STANDARD
TZOFFSETFROM:-0500
TZOFFSETTO:-0600
TZNAME:CST
DTSTART:20261101T070000
END:STANDARD
BEGIN:DAYLIGHT
TZOFFSETFROM:-0600
TZOFFSETTO:-0500
TZNAME:CDT
DTSTART:20270314T080000
END:DAYLIGHT
BEGIN:STANDARD
TZOFFSETFROM:-0500
TZOFFSETTO:-0600
TZNAME:CST
DTSTART:20271107T070000
END:STANDARD
END:VTIMEZONE
BEGIN:VEVENT
DTSTART;TZID=America/Chicago:20260127T120000
DTEND;TZID=America/Chicago:20260127T130000
DTSTAMP:20260420T222956
CREATED:20251215T202752Z
LAST-MODIFIED:20251219T141411Z
UID:2345-1769515200-1769518800@www.browncountyunitedway.org
SUMMARY:Hunger and the Cost-of-Living Crisis
DESCRIPTION:Join Community Champions to learn how the cost-of-living crisis affects food security for working individuals and families in Brown County. This event is suitable for all backgrounds – no experience necessary. So\, if you care about feeding everyone in our community\, spend your lunch hour with us and leave ready for action! \nThis virtual seminar will cover: \n\nHow rising food costs affect the 1 in 3 households below the ALICE® Threshold (Asset Limited\, Income Constrained\, Employed)\nAn overview of Brown County’s food system: components\, gaps\, challenges\, opportunities\nUpdates on the status of the Supplemental Nutrition Assistance Program (SNAP)\, known as FoodShare in Wisconsin\nHow to help reduce stigma regarding food pantry usage\nWhat pantries actually need\n\nYou will leave with information about how to support local pantries and your family\, friends\, neighbors\, and coworkers who rely on them! \nRegister for updates and further information or use the link below to join the virtual meeting at the time of the event. \nhttps://teams.microsoft.com/l/meetup-join/19%3ameeting_YWRjMzViNDYtZGEyZC00NDhjLTgyMGYtODU1ODg5NDVkYzdl%40thread.v2/0?context=%7b%22Tid%22%3a%2298582ebb-dd8f-47b8-a555-494ae6da2828%22%2c%22Oid%22%3a%22c199bff0-5c60-4e8f-bc5a-f8f1b477e9cb%22%7d \nQuestions about this program? Email sarah@browncountyunitedway.org
URL:https://www.browncountyunitedway.org/event/hunger-and-the-cost-of-living-crisis/
END:VEVENT
BEGIN:VEVENT
DTSTART;TZID=America/Chicago:20260317T120000
DTEND;TZID=America/Chicago:20260317T130000
DTSTAMP:20260420T222956
CREATED:20251223T153514Z
LAST-MODIFIED:20260217T191852Z
UID:2403-1773748800-1773752400@www.browncountyunitedway.org
SUMMARY:Childcare and the Cost-of-Living Crisis
DESCRIPTION:Join Community Champions for this virtual education program. You will learn how families below the ALICE® threshold face challenges due to the rising cost of childcare and get connected to solutions at the local and state level. \nWe will also share upcoming opportunities to support local childcare programs with painting and other light maintenance tasks. \nJoin the event via this link at the time of the event.
URL:https://www.browncountyunitedway.org/event/childcare-and-the-cost-of-living-crisis/
LOCATION:Virtual
END:VEVENT
BEGIN:VEVENT
DTSTART;VALUE=DATE:20260509
DTEND;VALUE=DATE:20260510
DTSTAMP:20260420T222956
CREATED:20251223T155112Z
LAST-MODIFIED:20251223T155136Z
UID:2408-1778284800-1778371199@www.browncountyunitedway.org
SUMMARY:Stamp Out Hunger with Community Champions
DESCRIPTION:Brown County United Way’s Community Champions will gather to collect food donations in one of the largest drives of the year. Volunteers will work together in teams to collect bags of food from residences throughout the area\, which will be processed and shared with local food pantries. \nOpportunities to volunteer are available throughout the day.
URL:https://www.browncountyunitedway.org/event/stamp-out-hunger-2026/
CATEGORIES:Volunteer Opportunity
END:VEVENT
BEGIN:VEVENT
DTSTART;TZID=America/Chicago:20260519T180000
DTEND;TZID=America/Chicago:20260519T190000
DTSTAMP:20260420T222956
CREATED:20251223T154215Z
LAST-MODIFIED:20251223T170203Z
UID:2405-1779213600-1779217200@www.browncountyunitedway.org
SUMMARY:The Cost-of-Living Crisis in Brown County: Voices of ALICE®
DESCRIPTION:Right here in Brown County\, almost 1 in 3 households live below the ALICE® threshold\, meaning that the cost-of-living is higher than their full-time income. Join Community Champions to learn about the updated ALICE® data for Brown County\, hear voices from our community\, and become part of the solution. \nJoin us for this educational and empowering event\, and leave with insights for action.
URL:https://www.browncountyunitedway.org/event/the-cost-of-living-crisis-in-brown-county-voices-of-alice/
LOCATION:City East Center\, 111 North Roosevelt Street\, GREEN BAY\, WI\, 54301-5010\, United States
END:VEVENT
BEGIN:VEVENT
DTSTART;TZID=America/Chicago:20260721T180000
DTEND;TZID=America/Chicago:20260721T190000
DTSTAMP:20260420T222956
CREATED:20251223T155415Z
LAST-MODIFIED:20260305T143646Z
UID:2410-1784656800-1784660400@www.browncountyunitedway.org
SUMMARY:Housing and the Cost-of-Living Crisis
DESCRIPTION:Join Community Champions to learn how working families are affected by the rising cost of housing\, and how you can join Brown County United Way and our community partners to advocate for sustainable housing solutions.
URL:https://www.browncountyunitedway.org/event/housing-and-the-cost-of-living-crisis/
LOCATION:City East Center\, 111 North Roosevelt Street\, GREEN BAY\, WI\, 54301-5010\, United States
END:VEVENT
BEGIN:VEVENT
DTSTART;TZID=America/Chicago:20260915T120000
DTEND;TZID=America/Chicago:20260915T130000
DTSTAMP:20260420T222956
CREATED:20251223T155610Z
LAST-MODIFIED:20251223T170107Z
UID:2412-1789473600-1789477200@www.browncountyunitedway.org
SUMMARY:ALICE® at School: How Financial Hardship Affects Youth in Our Community
DESCRIPTION:Join Community Champions for this educational program. You will learn how you can support Community Schools to continue to serve families in need and get connected to the Community Schools in our area for potential volunteer opportunities.
URL:https://www.browncountyunitedway.org/event/alice-at-school/
END:VEVENT
BEGIN:VEVENT
DTSTART;TZID=America/Chicago:20261117T180000
DTEND;TZID=America/Chicago:20261117T190000
DTSTAMP:20260420T222956
CREATED:20251223T165619Z
LAST-MODIFIED:20251223T170327Z
UID:2414-1794938400-1794942000@www.browncountyunitedway.org
SUMMARY:ALICE® on the Move: How Transportation Barriers Affect Our Community
DESCRIPTION:Join Community Champions to learn how unreliable transportation impacts households in our community. We will cover data on the expense of car ownership\, public transit options\, and how you can share your voice to influence the planning of future public transit.
URL:https://www.browncountyunitedway.org/event/alice-on-the-move/
LOCATION:City East Center\, 111 North Roosevelt Street\, GREEN BAY\, WI\, 54301-5010\, United States
END:VEVENT
END:VCALENDAR